BEGIN:VCALENDAR
VERSION:2.0
PRODID:-//ChamberMaster//Event Calendar 2.0//EN
METHOD:PUBLISH
X-PUBLISHED-TTL:P3D
REFRESH-INTERVAL:P3D
CALSCALE:GREGORIAN
BEGIN:VEVENT
DTSTART:20241130T010000Z
DTEND:20241130T020000Z
X-MICROSOFT-CDO-ALLDAYEVENT:FALSE
SUMMARY:2024 Lighted Parade
DESCRIPTION:Perry's Lighted Holiday Parade\nBundle up and join us for this Very Merry Perry holiday tradition in Downtown Perry!\n\nThe 2024 Lighted Parade in downtown Perry\, IA\, will be Friday\, November 29th - always the day after Thanksgiving! Thanks to the generosity of the Matt & Shanda Carstens Family Foundation\, prizes for the BEST\, BIGGEST and BRIGHTEST will be awarded in the amount of $350\, $250 and $150 in Perry Bucks!\n\nThe Perry Chamber of Commerce invites the Perry community to participate in this celebration as an official kick-off to the holiday season! Businesses\, community organizations\, and jolly community members are encouraged to create lighted floats to join the parade... or gather downtown to enjoy the parade! Then head over to Hotel Pattee to meet Santa afterwards!\n\nA number of stores will be open late that night\, but all downtown lights will go dark at 7 p.m. in anticipation of the Lighted Parade! Line-up begins at 6pm at 2nd & Otley!\n\nParade Rules:\n\nNo tossing candy from vehicles or floats. Only walkers are allowed to hand out candy. This is for safety reasons - thanks in advance!\n\nParade Route:\n\nStarting at the corner of 2nd and Otley (by Oasis Market)\, the parade will first head east on Otley to 3rd Street (by Fareway) and then will head north on 3rd to Pattee\, turning left and left again to then head south on 2nd Street through downtown!
X-ALT-DESC;FMTTYPE=text/html:<span style="font-size:18px\;">Perry&#39\;s Lighted Holiday Parade</span>\n<div class="xdj266r x11i5rnm xat24cr x1mh8g0r x1vvkbs" style="margin: 0px\; overflow-wrap: break-word\; font-family: &quot\;Segoe UI Historic&quot\;\, &quot\;Segoe UI&quot\;\, Helvetica\, Arial\, sans-serif\; color: rgb(8\, 8\, 9)\; font-size: 15px\; background-color: rgb(255\, 255\, 255)\;">Bundle up and join us for this Very Merry Perry holiday tradition in Downtown Perry!</div>\n\n<div class="x11i5rnm xat24cr x1mh8g0r x1vvkbs xtlvy1s" style="margin: 0.5em 0px 0px\; overflow-wrap: break-word\; font-family: &quot\;Segoe UI Historic&quot\;\, &quot\;Segoe UI&quot\;\, Helvetica\, Arial\, sans-serif\; color: rgb(8\, 8\, 9)\; font-size: 15px\; background-color: rgb(255\, 255\, 255)\;">The 2024 Lighted Parade in downtown Perry\, IA\, will be Friday\, November 29th - always the day after Thanksgiving! Thanks to the generosity of the Matt &amp\; Shanda Carstens Family Foundation\, prizes for the BEST\, BIGGEST and BRIGHTEST will be awarded in the amount of $350\, $250 and $150 in Perry Bucks!</div>\n\n<div class="x11i5rnm xat24cr x1mh8g0r x1vvkbs xtlvy1s" style="margin: 0.5em 0px 0px\; overflow-wrap: break-word\; font-family: &quot\;Segoe UI Historic&quot\;\, &quot\;Segoe UI&quot\;\, Helvetica\, Arial\, sans-serif\; color: rgb(8\, 8\, 9)\; font-size: 15px\; background-color: rgb(255\, 255\, 255)\;">The Perry Chamber of Commerce invites the Perry community to participate in this celebration as an official kick-off to the holiday season! Businesses\, community organizations\, and jolly community members are encouraged to create lighted floats to join the parade... or gather downtown to enjoy the parade! Then head over to Hotel Pattee to meet Santa afterwards!</div>\n\n<div class="x11i5rnm xat24cr x1mh8g0r x1vvkbs xtlvy1s" style="margin: 0.5em 0px 0px\; overflow-wrap: break-word\; font-family: &quot\;Segoe UI Historic&quot\;\, &quot\;Segoe UI&quot\;\, Helvetica\, Arial\, sans-serif\; color: rgb(8\, 8\, 9)\; font-size: 15px\; background-color: rgb(255\, 255\, 255)\;">A number of stores will be open late that night\, but all downtown lights will go dark at 7 p.m. in anticipation of the Lighted Parade! Line-up begins at 6pm at 2nd &amp\; Otley!</div>\n\n<div class="x11i5rnm xat24cr x1mh8g0r x1vvkbs xtlvy1s" style="margin: 0.5em 0px 0px\; overflow-wrap: break-word\; font-family: &quot\;Segoe UI Historic&quot\;\, &quot\;Segoe UI&quot\;\, Helvetica\, Arial\, sans-serif\; color: rgb(8\, 8\, 9)\; font-size: 15px\; background-color: rgb(255\, 255\, 255)\;">Parade Rules:<br class="html-br" />\nNo tossing candy from vehicles or floats. Only walkers are allowed to hand out candy. This is for safety reasons - thanks in advance!</div>\n\n<div class="x11i5rnm xat24cr x1mh8g0r x1vvkbs xtlvy1s" style="margin: 0.5em 0px 0px\; overflow-wrap: break-word\; font-family: &quot\;Segoe UI Historic&quot\;\, &quot\;Segoe UI&quot\;\, Helvetica\, Arial\, sans-serif\; color: rgb(8\, 8\, 9)\; font-size: 15px\; background-color: rgb(255\, 255\, 255)\;">Parade Route:<br class="html-br" />\nStarting at the corner of 2nd and Otley (by Oasis Market)\, the parade will first head east on Otley to 3rd Street (by Fareway) and then will head north on 3rd to Pattee\, turning left and left again to then head south on 2nd Street through downtown!</div>\n
LOCATION:2nd Street Downtown Perry
UID:e.3316.6699
SEQUENCE:3
DTSTAMP:20260424T011316Z
URL:http://perryia.chambermaster.com/events/details/2024-lighted-parade-6699
END:VEVENT

END:VCALENDAR
