BEGIN:VCALENDAR
VERSION:2.0
PRODID:-//ChamberMaster//Event Calendar 2.0//EN
METHOD:PUBLISH
X-PUBLISHED-TTL:P3D
REFRESH-INTERVAL:P3D
CALSCALE:GREGORIAN
BEGIN:VEVENT
DTSTART:20250801T140000Z
DTEND:20250801T210000Z
X-MICROSOFT-CDO-ALLDAYEVENT:FALSE
SUMMARY:4th Annual Perry Chamber Golf Outing
DESCRIPTION:4th Annual Chamber Open Golf Outing\n\nGolf\, Lunch\, Games\, Contests\, Prizes!\n\n\n\n9 holes of golf with 2 tee time options: 9am or 1pm\n\nOption for full day of 18 holes as well!\n\nGolfer & Member Luncheon 11am-1pm\n\n\n\nSponsorship Opportunities:\n\nLunch Sponsor Backwards Boutique\n\nBeverage Cart Sponsor (1 available)\n\nHole Sponsors (4 still available)\n\nA&J Rentals\n\nCity State Bank Insurance\n\nEdward Jones\n\nFareway\n\nFarm Credit Services of America\n\nGenerations Wealth Advisors\n\nHulgan Plumbing\, Heating\, Cooling & Electrical\n\nInside Out Wellness & Advocacy\n\nLandus\n\nMidwest Poly-Coatings Plus\n\nOptimist Club of Perry\n\nProgressive Foundry\n\nRaccoon Valley Bank\n\nRaccoon Valley Radio
X-ALT-DESC;FMTTYPE=text/html:<strong><span style="font-size:20px\;">4th Annual Chamber Open Golf Outing<br />\nGolf\, Lunch\, Games\, Contests\, Prizes!</span></strong><br />\n<br />\n<strong><span style="font-size: 20px\;">9 holes of golf with 2 tee time options: 9am or 1pm<br />\nOption for full day of 18 holes as well!<br />\nGolfer &amp\; Member Luncheon 11am-1pm</span></strong><br />\n<br />\n<span style="font-size:18px\;"><span style="font-size:20px\;"><strong><span style="font-size:24px\;"><u>Sponsorship Opportunities:</u></span></strong></span><br />\n<u><strong>Lunch Sponsor</strong></u> Backwards Boutique<br />\n<u><strong>Beverage Cart Sponsor</strong></u> (1 available)<br />\n<u><strong>Hole Sponsors</strong></u> (4 still available</span>)<br />\nA&amp\;J Rentals<br />\nCity State Bank Insurance<br />\nEdward Jones<br />\nFareway<br />\nFarm Credit Services of America<br />\nGenerations Wealth Advisors<br />\nHulgan Plumbing\, Heating\, Cooling &amp\; Electrical<br />\nInside Out Wellness &amp\; Advocacy<br />\nLandus<br />\nMidwest Poly-Coatings Plus<br />\nOptimist Club of Perry<br />\nProgressive Foundry<br />\nRaccoon Valley Bank<br />\nRaccoon Valley Radio<br />\n<br />\n&nbsp\;
LOCATION:Perry Golf and Country Club 352 330th Street Perry
UID:e.3316.9730
SEQUENCE:3
DTSTAMP:20260426T005036Z
URL:http://perryia.chambermaster.com/events/details/4th-annual-perry-chamber-golf-outing-9730
END:VEVENT

END:VCALENDAR
