BEGIN:VCALENDAR
VERSION:2.0
PRODID:-//ChamberMaster//Event Calendar 2.0//EN
METHOD:PUBLISH
X-PUBLISHED-TTL:P3D
REFRESH-INTERVAL:P3D
CALSCALE:GREGORIAN
BEGIN:VEVENT
DTSTART:20251224T140000Z
DTEND:20251224T180000Z
X-MICROSOFT-CDO-ALLDAYEVENT:FALSE
SUMMARY:Blood Drive
DESCRIPTION:Perry Hy-Vee Blood Drive
X-ALT-DESC;FMTTYPE=text/html:<span style="font-size:18px\;">Perry Hy-Vee Blood Drive</span>
LOCATION:1215 141st Street Perry
UID:e.3316.10621
SEQUENCE:3
DTSTAMP:20260424T005324Z
URL:http://perryia.chambermaster.com/events/details/blood-drive-10621
END:VEVENT

END:VCALENDAR
