BEGIN:VCALENDAR
VERSION:2.0
PRODID:-//ChamberMaster//Event Calendar 2.0//EN
METHOD:PUBLISH
X-PUBLISHED-TTL:P3D
REFRESH-INTERVAL:P3D
CALSCALE:GREGORIAN
BEGIN:VEVENT
DTSTART;VALUE=DATE:20241201
DTEND;VALUE=DATE:20250301
TRANSP:TRANSPARENT
X-MICROSOFT-CDO-ALLDAYEVENT:TRUE
SUMMARY:Children’s Winter Library Program
DESCRIPTION:Get your mitts on a good book (or 2 or 3) this winter and join our Perry Public Library Children's Winter Reading Challenge! Participating is easy. Read every day for 90 days and earn 1 point for each day you read. Every 5 points you earn gets you a prize - alternating between earning a charm and earning a charm + a Grand Prize Entry! Children can earn entries for our three grand prizes\, including Grand Prize 1: A Magna-Tile Construction Set\, Grand Prize 2: A Fire 7 Kids' Tablet\, and Grand Prize 3: A Boy's and Girl's Cozy Reading Set. The Children's Winter Library program will run from December 1\, 2024\, through February 28\, 2025. We recommend using the Beanstack app\, where you can easily track each day you read and enter to win prizes! Simply visit beanstack.com and enter in our library name or download the Beanstack app to get started. Patrons may also opt to register in person and use paper tracking forms to participate. For more information\, go to www.perry.lib.ia.us\, visit the library\, or call 515-465-3569.
X-ALT-DESC;FMTTYPE=text/html:<span style="font-family:arial\,sans-serif"><span style="font-size:12.0pt">Get your mitts on a good book (or 2 or 3) this winter and join our Perry Public Library Children&#39\;s Winter Reading Challenge! Participating is easy. Read every day for 90 days and earn 1 point for each day you read. Every 5 points you earn gets you a prize - alternating between earning a charm and earning a charm + a Grand Prize Entry! Children can earn entries for our three grand prizes\, including Grand Prize 1: A Magna-Tile Construction Set\, Grand Prize 2: A Fire 7 Kids&rsquo\; Tablet\, and Grand Prize 3: A Boy&rsquo\;s and Girl&rsquo\;s Cozy Reading Set. The Children&rsquo\;s Winter Library program will run from December 1\, 2024\, through February 28\, 2025. We recommend using the Beanstack app\, where you can easily track each day you read and enter to win prizes! Simply visit beanstack.com and enter in our library name or download the Beanstack app to get started. Patrons may also opt to register in person and use paper tracking forms to participate. For more information\, go to www.perry.lib.ia.us\, visit the library\, or call 515-465-3569.</span></span>
LOCATION:
UID:e.3316.8227
SEQUENCE:3
DTSTAMP:20260421T235144Z
URL:http://perryia.chambermaster.com/events/details/children-s-winter-library-program-8227
END:VEVENT

END:VCALENDAR
