BEGIN:VCALENDAR
VERSION:2.0
PRODID:-//ChamberMaster//Event Calendar 2.0//EN
METHOD:PUBLISH
X-PUBLISHED-TTL:P3D
REFRESH-INTERVAL:P3D
CALSCALE:GREGORIAN
BEGIN:VEVENT
DTSTART:20240806T200000Z
DTEND:20240806T213000Z
X-MICROSOFT-CDO-ALLDAYEVENT:FALSE
SUMMARY:DCH Back to School Bash
DESCRIPTION:HELP US RECOGNIZE DCH'S 70-YEAR ANNIVERSARY\, WITH A PERRY CLINIC AND DCH BACK-TO-SCHOOL BASH! OPEN EVENT TO THE PUBLIC FOR EVERYONE\, APPROPRIATE FOR ALL AGES! Free food and activities\, while supplies last and an opportunity to celebrate with staff\, meet some of our newest providers\, including Lauren Swan\, PA and Dr. Alexander Schmidt\, collect some giveaways and more. *You can schedule your Back-to-School physical while at this event to occur at a later date (Volunteers will guide you over to the clinic). *Our Financial Counselor will be available to schedule a consultation with you to occur at a later date.
X-ALT-DESC;FMTTYPE=text/html:HELP US RECOGNIZE DCH&#39\;S 70-YEAR ANNIVERSARY\, WITH A PERRY CLINIC AND DCH BACK-TO-SCHOOL BASH! OPEN EVENT TO THE PUBLIC FOR EVERYONE\, APPROPRIATE FOR ALL AGES! Free food and activities\, while supplies last and an opportunity to celebrate with staff\, meet some of our newest providers\, including Lauren Swan\, PA and Dr. Alexander Schmidt\, collect some giveaways and more. *You can schedule your Back-to-School physical while at this event to occur at a later date (Volunteers will guide you over to the clinic). *Our Financial Counselor will be available to schedule a consultation with you to occur at a later date.
LOCATION:DCH Bistro (Ground level\, southwest side of the building by EMS) 610 10th St\, Perry\, IA 50220
UID:e.3316.6784
SEQUENCE:3
DTSTAMP:20260424T010942Z
URL:http://perryia.chambermaster.com/events/details/dch-back-to-school-bash-6784
END:VEVENT

END:VCALENDAR
