BEGIN:VCALENDAR
VERSION:2.0
PRODID:-//ChamberMaster//Event Calendar 2.0//EN
METHOD:PUBLISH
X-PUBLISHED-TTL:P3D
REFRESH-INTERVAL:P3D
CALSCALE:GREGORIAN
BEGIN:VEVENT
DTSTART:20250419T153000Z
DTEND:20250419T160000Z
X-MICROSOFT-CDO-ALLDAYEVENT:FALSE
SUMMARY:Easter Egg Hunt
DESCRIPTION:Easter Egg Hunt on Saturday\, April 19th at 10:30am\n\nThe Easter Bunny will be available for pictures at 10:00am
X-ALT-DESC;FMTTYPE=text/html:<span style="font-size:18px\;">Easter Egg Hunt on Saturday\, April 19th at 10:30am<br />\nThe Easter Bunny will be available for pictures at 10:00am</span>
LOCATION:Soccer Fields at Pattee Park Sports Complex
UID:e.3316.9728
SEQUENCE:3
DTSTAMP:20260422T155456Z
URL:http://perryia.chambermaster.com/events/details/easter-egg-hunt-9728
END:VEVENT

END:VCALENDAR
