BEGIN:VCALENDAR
VERSION:2.0
PRODID:-//ChamberMaster//Event Calendar 2.0//EN
METHOD:PUBLISH
X-PUBLISHED-TTL:P3D
REFRESH-INTERVAL:P3D
CALSCALE:GREGORIAN
BEGIN:VEVENT
DTSTART:20250419T150000Z
DTEND:20250419T160000Z
X-MICROSOFT-CDO-ALLDAYEVENT:FALSE
SUMMARY:Easter Egg Hunt
DESCRIPTION:Easter Egg Hunt at New Day Assembly Church\n\nPreschool - 5th Grade\n\n8\,000 egg hunt and raffle prizes!\n\nBring your own basket. Golden Eggs will be hidden for special prizes!
X-ALT-DESC;FMTTYPE=text/html:<span style="font-size:18px\;">Easter Egg Hunt at New Day Assembly Church<br />\nPreschool - 5th Grade<br />\n8\,000 egg hunt and raffle prizes!<br />\nBring your own basket. Golden Eggs will be hidden for special prizes!</span>
LOCATION:New Day Assembly 2313 1st Avenue Perry
UID:e.3316.9732
SEQUENCE:3
DTSTAMP:20260422T015104Z
URL:http://perryia.chambermaster.com/events/details/easter-egg-hunt-9732
END:VEVENT

END:VCALENDAR
