BEGIN:VCALENDAR
VERSION:2.0
PRODID:-//ChamberMaster//Event Calendar 2.0//EN
METHOD:PUBLISH
X-PUBLISHED-TTL:P3D
REFRESH-INTERVAL:P3D
CALSCALE:GREGORIAN
BEGIN:VEVENT
DTSTART:20240607T230000Z
DTEND:20240608T023000Z
X-MICROSOFT-CDO-ALLDAYEVENT:FALSE
SUMMARY:Friday Fest
DESCRIPTION:Friday Fest on June 7th featuring the band Suede!\n\nThe Perry Fire Department will be grilling and the Junior Class will be selling Brownie Sundaes!\n\nRotary will have their Mini Golf set up and there will also be face painting!\n\nBring-your-own-basket and enjoy an evening in Perry!\n\n\n\nThank you to our Sponsors!\n\nAffordable Quality Roofing\n\nBolton & Menk\n\nHulgan Plumbing\, Heating & Cooling\n\nHy-Vee Food Store\n\nFamily Credit Union\n\nLandus\n\nOsmundson Mfg Co.\n\nPercival Scientific\, Inc.\n\nPerry Paint & Glass\n\nPerry Rotary Club\n\nRaccoon Valley Bank\n\nWells Fargo Bank
X-ALT-DESC;FMTTYPE=text/html:Friday Fest on June 7th featuring the band Suede!<br />\nThe Perry Fire Department will be grilling and the Junior Class will be selling Brownie Sundaes!<br />\nRotary will have their Mini Golf set up and there will also be face painting!<br />\nBring-your-own-basket and enjoy an evening in Perry!<br />\n<br />\nThank you to our Sponsors!<br />\nAffordable Quality Roofing<br />\nBolton &amp\; Menk<br />\nHulgan Plumbing\, Heating &amp\; Cooling<br />\nHy-Vee Food Store<br />\nFamily Credit Union<br />\nLandus<br />\nOsmundson Mfg Co.<br />\nPercival Scientific\, Inc.<br />\nPerry Paint &amp\; Glass<br />\nPerry Rotary Club<br />\nRaccoon Valley Bank<br />\nWells Fargo Bank
LOCATION:Pattee Park Bandshell
UID:e.3316.6686
SEQUENCE:3
DTSTAMP:20260425T164018Z
URL:http://perryia.chambermaster.com/events/details/friday-fest-6686
END:VEVENT

END:VCALENDAR
