BEGIN:VCALENDAR
VERSION:2.0
PRODID:-//ChamberMaster//Event Calendar 2.0//EN
METHOD:PUBLISH
X-PUBLISHED-TTL:P3D
REFRESH-INTERVAL:P3D
CALSCALE:GREGORIAN
BEGIN:VEVENT
DTSTART:20250530T230000Z
DTEND:20250531T023000Z
X-MICROSOFT-CDO-ALLDAYEVENT:FALSE
SUMMARY:Friday Fest with Rukkus
DESCRIPTION:Free Family Friendly Fun at Friday Fest at the Pattee Park Bandshell in Perry!\n\nEnjoy live music by RUKKUS on Friday\, May 30th\, 6-9:30pm.\n\n \n\nLet's kick off the summer with live music\, food and family fun!\n\nBring your own lawn chairs or blankets\, yard games\, and your own basket of refreshments (beer and wine permitted\; but no glass allowed). Pack a picnic or purchase food from local vendors on site.\n\n \n\nFOOD VENDORS\n\nPerry Volunteer Fire Department - Grilling Cheeseburgers\, Hot Dogs\, Pork Loin & Steak Sandwiches\n\nMS Softball Program - Brownie Sundaes\n\nPHS Music Department - Mac & Cheese Bar\n\nThe Hangout Diner - Funnel Cakes\, Fried Oreos\, Popcorn\, Walking Tacos\n\nArgueta - Pupusas\, Fruit\n\n \n\nKIDS ACTIVITIES\n\n6:00-8:00 Barrel Rides - Sponsored by Optimists of Perry\n\n6:00-8:00 Foam Party\n\n8:30-9:30 Glow Foam \n\n\n\nSPONSORS\n\nBolton & Menk\n\nCity of Perry\n\nHy-Vee\n\nFamily Credit Union\n\nHulgan's Plumbing\, Heating\, Cooling & Electrical\n\nHotel Pattee\n\nLa Poste\n\nLandus\n\nOptimist Club of Perry\n\nOsmundson Mfg Co\n\nPercival Scientific\n\nPerry Chamber Foundation\n\nPerry Elks Lodge\n\nPerry Paint & Glass
X-ALT-DESC;FMTTYPE=text/html:<div class="xdj266r x11i5rnm xat24cr x1mh8g0r x1vvkbs" style="margin: 0px\; overflow-wrap: break-word\; font-family: &quot\;Segoe UI Historic&quot\;\, &quot\;Segoe UI&quot\;\, Helvetica\, Arial\, sans-serif\; color: rgb(8\, 8\, 9)\; font-size: 15px\; background-color: rgb(255\, 255\, 255)\;"><span style="font-size:18px\;">Free Family Friendly Fun at Friday Fest at the Pattee Park Bandshell in Perry!<br class="html-br" />\nEnjoy live music by RUKKUS on Friday\, May 30th\, 6-9:30pm.</span><br />\n&nbsp\;</div>\n\n<div class="x11i5rnm xat24cr x1mh8g0r x1vvkbs xtlvy1s" style="margin: 0.5em 0px 0px\; overflow-wrap: break-word\; font-family: &quot\;Segoe UI Historic&quot\;\, &quot\;Segoe UI&quot\;\, Helvetica\, Arial\, sans-serif\; color: rgb(8\, 8\, 9)\; font-size: 15px\; background-color: rgb(255\, 255\, 255)\;"><span style="font-size:18px\;">Let&#39\;s kick off the summer with live music\, food and family fun!</span></div>\n\n<div class="x11i5rnm xat24cr x1mh8g0r x1vvkbs xtlvy1s" style="margin: 0.5em 0px 0px\; overflow-wrap: break-word\; font-family: &quot\;Segoe UI Historic&quot\;\, &quot\;Segoe UI&quot\;\, Helvetica\, Arial\, sans-serif\; color: rgb(8\, 8\, 9)\; font-size: 15px\; background-color: rgb(255\, 255\, 255)\;"><span style="font-size:18px\;">Bring your own lawn chairs or blankets\, yard games\, and your own basket of refreshments (beer and wine permitted\; but no glass allowed). Pack a picnic or purchase food from local vendors on site.</span><br />\n&nbsp\;</div>\n\n<div class="x11i5rnm xat24cr x1mh8g0r x1vvkbs xtlvy1s" style="margin: 0.5em 0px 0px\; overflow-wrap: break-word\; font-family: &quot\;Segoe UI Historic&quot\;\, &quot\;Segoe UI&quot\;\, Helvetica\, Arial\, sans-serif\; color: rgb(8\, 8\, 9)\; font-size: 15px\; background-color: rgb(255\, 255\, 255)\;"><span style="font-size:18px\;"><u><strong>FOOD VENDORS</strong></u><br class="html-br" />\nPerry Volunteer Fire Department - Grilling Cheeseburgers\, Hot Dogs\, Pork Loin &amp\; Steak Sandwiches<br />\nMS Softball Program - Brownie Sundaes<br class="html-br" />\nPHS Music Department - Mac &amp\; Cheese Bar<br />\nThe Hangout Diner - Funnel Cakes\, Fried Oreos\, Popcorn\, Walking Tacos<br />\nArgueta - Pupusas\, Fruit</span><br />\n&nbsp\;</div>\n\n<div class="x11i5rnm xat24cr x1mh8g0r x1vvkbs xtlvy1s" style="margin: 0.5em 0px 0px\; overflow-wrap: break-word\; font-family: &quot\;Segoe UI Historic&quot\;\, &quot\;Segoe UI&quot\;\, Helvetica\, Arial\, sans-serif\; color: rgb(8\, 8\, 9)\; font-size: 15px\; background-color: rgb(255\, 255\, 255)\;"><span style="font-size:18px\;"><u><strong>KIDS ACTIVITIES</strong></u><br />\n6:00-8:00 Barrel Rides - Sponsored by Optimists of Perry<br />\n6:00-8:00 Foam Party<br />\n8:30-9:30 Glow Foam&nbsp\;<br />\n<br class="html-br" />\n<u><strong>SPONSORS</strong></u><br />\nBolton &amp\; Menk<br />\nCity of Perry<br />\nHy-Vee<br />\nFamily Credit Union<br />\nHulgan&#39\;s Plumbing\, Heating\, Cooling &amp\; Electrical<br />\nHotel Pattee<br />\nLa Poste<br />\nLandus<br />\nOptimist Club of Perry<br />\nOsmundson Mfg Co<br />\nPercival Scientific<br />\nPerry Chamber Foundation<br />\nPerry Elks Lodge<br />\nPerry Paint &amp\; Glass</span></div>\n<br />\n&nbsp\;
LOCATION:Pattee Park Bandshell
UID:e.3316.8826
SEQUENCE:3
DTSTAMP:20260421T200558Z
URL:http://perryia.chambermaster.com/events/details/friday-fest-8826
END:VEVENT

END:VCALENDAR
