BEGIN:VCALENDAR
VERSION:2.0
PRODID:-//ChamberMaster//Event Calendar 2.0//EN
METHOD:PUBLISH
X-PUBLISHED-TTL:P3D
REFRESH-INTERVAL:P3D
CALSCALE:GREGORIAN
BEGIN:VEVENT
DTSTART:20250606T130000Z
DTEND:20250606T190000Z
X-MICROSOFT-CDO-ALLDAYEVENT:FALSE
SUMMARY:Inside Out's Second Annual Golf Outing
DESCRIPTION:Inside Out Second Annual Golf Outing at River Valley Golf Course\n\nRegistration includes 18 holes\, 2 golf carts and lunch\n\n$300/foursome\n\n\n\nSponsorship Opportunities Available
X-ALT-DESC;FMTTYPE=text/html:<span style="font-size:18px\;">Inside Out Second Annual Golf Outing at River Valley Golf Course<br>\nRegistration includes 18 holes\, 2 golf carts and lunch<br>\n$300/foursome<br>\n<br>\nSponsorship Opportunities Available</span>
LOCATION:River Valley Golf Course 22927 Valley View Trail\, Adel
UID:e.3316.9741
SEQUENCE:3
DTSTAMP:20260420T171144Z
URL:http://perryia.chambermaster.com/events/details/inside-out-s-second-annual-golf-outing-9741
END:VEVENT

END:VCALENDAR
