BEGIN:VCALENDAR
VERSION:2.0
PRODID:-//ChamberMaster//Event Calendar 2.0//EN
METHOD:PUBLISH
X-PUBLISHED-TTL:P3D
REFRESH-INTERVAL:P3D
CALSCALE:GREGORIAN
BEGIN:VEVENT
DTSTART:20241221T000000Z
DTEND:20241221T023000Z
X-MICROSOFT-CDO-ALLDAYEVENT:FALSE
SUMMARY:Las Posadas
DESCRIPTION:Cultural tradition that reenacts the biblical journey of Joseph and Mary seeking lodging before Jesus birth in Bethlehem. Join us for an Ecumenical service at 6:00 pm. at the First Christian Church\, followed by a procession at 6:30 pm on second street and finish with a dinner and celebration at 7:00 pm at the United Methodist Church
X-ALT-DESC;FMTTYPE=text/html:<span style="font-size:18px\;">Cultural tradition that reenacts the biblical journey of Joseph and Mary seeking lodging before Jesus birth in Bethlehem. Join us for an Ecumenical service at 6:00 pm. at the First Christian Church\, followed by a procession at 6:30 pm on second street and finish with a dinner and celebration at 7:00 pm at the United Methodist Church</span>
LOCATION:First Christian Church 1224 Lucinda Street\, Perry United Methodist Church 1100 3rd Street\, Perry
UID:e.3316.8243
SEQUENCE:3
DTSTAMP:20260424T122944Z
URL:http://perryia.chambermaster.com/events/details/las-posadas-8243
END:VEVENT

END:VCALENDAR
