BEGIN:VCALENDAR
VERSION:2.0
PRODID:-//ChamberMaster//Event Calendar 2.0//EN
METHOD:PUBLISH
X-PUBLISHED-TTL:P3D
REFRESH-INTERVAL:P3D
CALSCALE:GREGORIAN
BEGIN:VEVENT
DTSTART:20241206T150000Z
DTEND:20241215T040000Z
X-MICROSOFT-CDO-ALLDAYEVENT:FALSE
SUMMARY:Peppermint Walk
DESCRIPTION:2024 Peppermint Walk\n\nShop\, Dine & Be Merry in Perry this Holiday Season!\nGet your holiday shopping wrapped up with a little extra incentive to shop local! Join us for the Peppermint Walk on December 6th - 14th\, 2024!\n\nShop\, Dine & Be Merry at participating businesses to get your passports stamped at check-out and be entered into a drawing for a chance to win $100\, $50 or $25 in Perry Bucks!\n\nNo tickets are necessary. Just pick up a passport at any participating business and get started... Make a purchase (buying gift cards counts!) at three different participating businesses and get your passport stamped at each one. Turn in a completed passport at any participating business or the Chamber Office (1124 Willis) to be entered to win!\n\n2024 Peppermint Walk Participating Businesses:\n\n1. Alice's Haus Dresin | 924 Otley Street\n\n2. Backwards Boutique | 1124 2nd Street\n\n3. Betsy Peterson Designs | 1121 2nd Street\n\n4. BlueJay Market | 2810 Willis Ave\n\n5. Casa De Oro Perry | 1211 2nd Street\n\n6. Domino's Pizza | 903 1st Street\n\n7. Eye Care Associates | 1313 2nd Street\n\n8. Fareway | 1315 Willis Ave\n\n9. Frio/Mex-to-U | 1114 1st Ave\n\n10. Gatherings on 2nd | 1016 2nd Street\n\n11. Harper Rose's Floral & Gifts | 503 1st Ave\n\n12. Heavenly Delights Chocolates | 2373 X Ave\n\n13. Mandarin Cafe | 1117 2nd Street\n\n14. Mary Rose Collective | 1215 Warford Street\n\n15. Perry Flowers by Donna Jean | 1305 2nd Street\n\n16. Perry Grand 3 Theatres | 1312 2nd Street\n\n17. Perry Paint and Glass | 1216 2nd Street\n\n18. Perry Paw Spa | 2924 Willis Ave\n\n19. Perry Perk Coffee | 1201 Warford Street\n\n20. Scooter's Coffee | 414 1st Ave\n\n21. Sips on 2nd | 1113 2nd Street\n\n22. Susie's Shop | 1318 2nd Street\n\n23. The Hangout Diner 1014 2nd Street\n\n24.  The Scottish Fox | 1122 2nd Street\n\n25. Tin Pig Tavern | 1202 2nd Street\n\n26. Van Wall Equipment | 22728 141st Dr\n\n**Open Hours Vary**\n\nShop\, Dine & Be Merry in Perry!
X-ALT-DESC;FMTTYPE=text/html:<span style="font-size:18px\;">2024 Peppermint Walk<br />\nShop\, Dine &amp\; Be Merry in Perry this Holiday Season!</span>\n<div class="xdj266r x11i5rnm xat24cr x1mh8g0r x1vvkbs" style="margin: 0px\; overflow-wrap: break-word\; font-family: &quot\;Segoe UI Historic&quot\;\, &quot\;Segoe UI&quot\;\, Helvetica\, Arial\, sans-serif\; color: rgb(8\, 8\, 9)\; font-size: 15px\; background-color: rgb(255\, 255\, 255)\;">Get your holiday shopping wrapped up with a little extra incentive to shop local! Join us for the Peppermint Walk on December 6th - 14th\, 2024!</div>\n\n<div class="x11i5rnm xat24cr x1mh8g0r x1vvkbs xtlvy1s" style="margin: 0.5em 0px 0px\; overflow-wrap: break-word\; font-family: &quot\;Segoe UI Historic&quot\;\, &quot\;Segoe UI&quot\;\, Helvetica\, Arial\, sans-serif\; color: rgb(8\, 8\, 9)\; font-size: 15px\; background-color: rgb(255\, 255\, 255)\;">Shop\, Dine &amp\; Be Merry at participating businesses to get your passports stamped at check-out and be entered into a drawing for a chance to win $100\, $50 or $25 in Perry Bucks!</div>\n\n<div class="x11i5rnm xat24cr x1mh8g0r x1vvkbs xtlvy1s" style="margin: 0.5em 0px 0px\; overflow-wrap: break-word\; font-family: &quot\;Segoe UI Historic&quot\;\, &quot\;Segoe UI&quot\;\, Helvetica\, Arial\, sans-serif\; color: rgb(8\, 8\, 9)\; font-size: 15px\; background-color: rgb(255\, 255\, 255)\;">No tickets are necessary. Just pick up a passport at any participating business and get started... Make a purchase (buying gift cards counts!) at three different participating businesses and get your passport stamped at each one. Turn in a completed passport at any participating business or the Chamber Office (1124 Willis) to be entered to win!</div>\n\n<div class="x11i5rnm xat24cr x1mh8g0r x1vvkbs xtlvy1s" style="margin: 0.5em 0px 0px\; overflow-wrap: break-word\; font-family: &quot\;Segoe UI Historic&quot\;\, &quot\;Segoe UI&quot\;\, Helvetica\, Arial\, sans-serif\; color: rgb(8\, 8\, 9)\; font-size: 15px\; background-color: rgb(255\, 255\, 255)\;">2024 Peppermint Walk Participating Businesses:<br class="html-br" />\n1. Alice&#39\;s Haus Dresin | 924 Otley Street<br class="html-br" />\n2. Backwards Boutique | 1124 2nd Street<br class="html-br" />\n3. Betsy Peterson Designs | 1121 2nd Street<br class="html-br" />\n4. BlueJay Market | 2810 Willis Ave<br class="html-br" />\n5. Casa De Oro Perry | 1211 2nd Street<br class="html-br" />\n6. Domino&#39\;s Pizza | 903 1st Street<br class="html-br" />\n7. Eye Care Associates | 1313 2nd Street<br class="html-br" />\n8. Fareway | 1315 Willis Ave<br class="html-br" />\n9. Frio/Mex-to-U | 1114 1st Ave<br class="html-br" />\n10. Gatherings on 2nd | 1016 2nd Street<br class="html-br" />\n11. Harper Rose&rsquo\;s Floral &amp\; Gifts | 503 1st Ave<br class="html-br" />\n12. Heavenly Delights Chocolates | 2373 X Ave<br class="html-br" />\n13. Mandarin Cafe | 1117 2nd Street<br class="html-br" />\n14. Mary Rose Collective | 1215 Warford Street<br class="html-br" />\n15. Perry Flowers by Donna Jean | 1305 2nd Street<br class="html-br" />\n16. Perry Grand 3 Theatres | 1312 2nd Street<br class="html-br" />\n17. Perry Paint and Glass | 1216 2nd Street<br class="html-br" />\n18. Perry Paw Spa | 2924 Willis Ave<br class="html-br" />\n19. Perry Perk Coffee | 1201 Warford Street<br class="html-br" />\n20. Scooter&#39\;s Coffee | 414 1st Ave<br class="html-br" />\n21. Sips on 2nd | 1113 2nd Street<br class="html-br" />\n22. Susie&rsquo\;s Shop | 1318 2nd Street<br class="html-br" />\n23. The Hangout Diner 1014 2nd Street<br />\n24.&nbsp\; The&nbsp\;Scottish Fox | 1122 2nd Street<br class="html-br" />\n25. Tin Pig Tavern | 1202 2nd Street<br class="html-br" />\n26. Van Wall Equipment | 22728 141st Dr</div>\n\n<div class="x11i5rnm xat24cr x1mh8g0r x1vvkbs xtlvy1s" style="margin: 0.5em 0px 0px\; overflow-wrap: break-word\; font-family: &quot\;Segoe UI Historic&quot\;\, &quot\;Segoe UI&quot\;\, Helvetica\, Arial\, sans-serif\; color: rgb(8\, 8\, 9)\; font-size: 15px\; background-color: rgb(255\, 255\, 255)\;">**Open Hours Vary**<br class="html-br" />\nShop\, Dine &amp\; Be Merry in Perry!</div>\n
LOCATION:Perry Businesses
UID:e.3316.8454
SEQUENCE:3
DTSTAMP:20260423T113942Z
URL:http://perryia.chambermaster.com/events/details/peppermint-walk-8454
END:VEVENT

END:VCALENDAR
