BEGIN:VCALENDAR
VERSION:2.0
PRODID:-//ChamberMaster//Event Calendar 2.0//EN
METHOD:PUBLISH
X-PUBLISHED-TTL:P3D
REFRESH-INTERVAL:P3D
CALSCALE:GREGORIAN
BEGIN:VEVENT
DTSTART:20251111T160000Z
DTEND:20251112T050000Z
X-MICROSOFT-CDO-ALLDAYEVENT:FALSE
SUMMARY:Perry Community Veterans Day Program
DESCRIPTION:28th Annual Perry High School Veterans Day Celebration
X-ALT-DESC;FMTTYPE=text/html:<span style="font-size:18px\;">28th Annual Perry High School Veterans Day Celebration</span>
LOCATION:Perry High School 1200 18th Street
UID:e.3316.10575
SEQUENCE:3
DTSTAMP:20260419T193804Z
URL:http://perryia.chambermaster.com/events/details/perry-community-veterans-day-program-10575
END:VEVENT

END:VCALENDAR
