BEGIN:VCALENDAR
VERSION:2.0
PRODID:-//ChamberMaster//Event Calendar 2.0//EN
METHOD:PUBLISH
X-PUBLISHED-TTL:P3D
REFRESH-INTERVAL:P3D
CALSCALE:GREGORIAN
BEGIN:VEVENT
DTSTART;VALUE=DATE:20250522
DTEND;VALUE=DATE:20250726
TRANSP:TRANSPARENT
X-MICROSOFT-CDO-ALLDAYEVENT:TRUE
SUMMARY:Perry Public Library Summer Library Program: Level Up at Your Library
DESCRIPTION:Are you ready to Level Up at Your Library this summer? Join our free Perry Public Library Summer Library Challenge to level up\, earn points\, and enter to win awesome prizes! Participating is easy - to level up all summer long\, read daily and complete side quest activities! Children\, teens\, and adults can register beginning Thursday\, May 22nd on Beanstack at https://perrypl.beanstack.com/reader365 or in person at the library . \n\nLevel Up at Your Library is an all-ages summer reading program based around puzzles and games. Play is one of the ways we learn to relate to others\, to think in new ways\, and to foster friendships\, new and old. Our summer 2025 theme reminds us that libraries are not just a space for knowledge\, but a space for fun too!\n\n \n\nActivities kick off with the amazing annual KidsFest on Saturday\, June 7th\, and end with a thrilling\, new\, all-ages Grand Finale event for 2025: Pop-Up Mini Golf on Saturday\, July 26th. \n\n \n\nYou (and your team) can help make our Pop-Up Mini Golf possible! We're seeking at least 9 teams to use their creativity\, imaginations\, and some recycled materials to create Pop-Up Mini Golf holes for this event. We'll provide a starter kit with your turf and goal. You'll add fun obstacles and boundaries around a "Level Up" theme of your choice! Families\, neighbors\, coworkers\, church groups\, volunteer groups\, and more are invited to create a team and register. Simply visit www.perry.lib.ia.us and find the registration link in the May Events Calendar\, visit the Library for a registration form\, or call 515-465-3569  and a librarian will assist you.\n\n \n\nChildren's Level Up at Your Library Summer Library Program 2025 Highlights:\n\n	5 GRAND PRIZES    Prize 1: Toni Box Starter Set\, Prize 2: Sphero Coding Robot + $50 in Perry Bucks\, Prize 3: Magnetic Cube Block Set + $50 in Perry Bucks\, Prize 4: Family Game Package\, and Prize 5: a Gift Basket Galore for Toddlers\n	Level Up Prizes   Earn Brag Tags \, free books\, and age-appropriate toys for ages 0 to 3 when you earn point for reading and completing side quests\n	Level Up Your Knowledge with Incredible Bats Live Bat Show   Tuesday\, June 10th\n	Level Up Magic Show with Mikayla Oz   Thursday\, June 19th \n	Level Up Family Build-Your-Own-Board-Bame Afternoon   Thursday\, June 26th \n	Level Up Pokemon Bingo   Thursday\, July 10th \n	Level Up Life-Size Oregon Trail Game   Week of July 7th through  July 11th \n	Level Up Kids' Movies   Monday\, June 16th and Monday\, July 7th \n	Level Up PBS Adventure Cube   Monday\, July 14th (registration required)\n	Pop-Up Mini Golf Grand Finale   Saturday\, July 26th \n\n  \n\nTeen Level Up at Your Library Summer Library Program 2025 Highlights:\n\n\n	3 GRAND PRIZES   Prize 1: Fujifilm Instax Mini Camera Set\, Prize 2: Plush Adjustable Gaming Chair and LED Strip Lights Gaming Prize\, and Prize 3: Tabletop and Outdoor Game Pack\n	Level Up Prizes   Earn fun keychains and free books when you earn points for reading and completing side quests\n	Weekly Level Up Meet-Ups on Fridays in June and July with activities including:\n	\n		Hunger Games Obstacle Course\n		Kindergarten Game Day\n		Live-Action Video Game\n		Puzzle Races\n		Nano Tape Bubble Kits\n		Movie and Craft\n	\n	\n	Pop-Up Mini Golf Grand Finale   Saturday\, July 26th \n\n  \n\nAdult Level Up at Your Library Summer Library Program 2025 Highlights:\n\n\n	4 GRAND PRIZES   Level Up with Prize 1: a Pickleball Set\, Prize 2: a Puzzle Table\, Prize 3: a Reading Package\, or Prize 4: a Mary Rose Gift Certificate!\n	8 MINI-PRIZES   Enjoy creative prizes to help you "level up" with skills and hobbies. Plus\, new this summer: winners choose from available prizes!\n	2 BONUS MINI-PRIZES in June and July\n	Level Up Your Personal History Workshops   Tuesday\, June 3rd and Tuesday\, July 1st\n	Level Up Your Personal History Recording Sessions   By Appointment in June and July\n	Level Up Puzzle Competition   Saturday\, June 14th\n	Level Up Route 66 Escape Room Game for Next Chapter Group   Wednesday\, June 18th \n	Level Up National Parks Escape Room Game   Thursday\, July 10th \n	Pop-Up Mini Golf Grand Finale   Saturday\, July 26th
X-ALT-DESC;FMTTYPE=text/html:<span style="font-size:18px\;"><span style="font-family:arial\,sans-serif">Are you ready to Level Up at Your Library this summer? Join our free Perry Public Library Summer Library Challenge to level up\, earn points\, and enter to win awesome prizes! Participating is easy - to level up all summer long\, read daily and complete side quest activities! Children\, teens\, and adults can register beginning Thursday\, May 22<sup>nd</sup> on Beanstack at </span><a href="https://perrypl.beanstack.com/reader365"><span style="font-family:arial\,sans-serif">https://perrypl.beanstack.com/reader365</span></a><span style="font-family:arial\,sans-serif"> or in person at the library . </span><br />\n<span style="font-family:arial\,sans-serif">Level Up at Your Library is an all-ages summer reading program based around puzzles and games. Play is one of the ways we learn to relate to others\, to think in new ways\, and to foster friendships\, new and old. Our summer 2025 theme reminds us that libraries are not just a space for knowledge\, but a space for fun too!</span><br />\n&nbsp\;<br />\n<span style="font-family:arial\,sans-serif">Activities kick off with the amazing annual <strong>KidsFest on Saturday\, June 7<sup>th</sup></strong>\, and end with a thrilling\, new\, all-ages <strong>Grand Finale event for 2025: Pop-Up Mini Golf on Saturday\, July 26<sup>th</sup></strong>. </span><br />\n&nbsp\;<br />\n<strong><span style="font-family:arial\,sans-serif">You (and your team) can help make our Pop-Up Mini Golf possible! </span></strong><span style="font-family:arial\,sans-serif">We&rsquo\;re seeking at least 9 teams to use their creativity\, imaginations\, and some recycled materials to create Pop-Up Mini Golf holes for this event. We&rsquo\;ll provide a starter kit with your turf and goal. You&rsquo\;ll add fun obstacles and boundaries around a &ldquo\;Level Up&rdquo\; theme of your choice! Families\, neighbors\, coworkers\, church groups\, volunteer groups\, and more are invited to create a team and register. Simply visit </span><a href="http://www.perry.lib.ia.us/"><span style="font-family:arial\,sans-serif">www.perry.lib.ia.us</span></a><span style="font-family:arial\,sans-serif"> and find the registration link in the May Events Calendar\, visit the Library for a registration form\, or call 515-465-3569&nbsp\; and a librarian will assist you.</span><br />\n&nbsp\;<br />\n<strong><span style="font-family:arial\,sans-serif">Children&rsquo\;s Level Up at Your Library Summer Library Program 2025 Highlights:</span></strong></span>\n<ul>\n	<li style="text-align:justify"><span style="font-size:18px\;"><span style="font-family:arial\,sans-serif">5 GRAND PRIZES &ndash\; &nbsp\;Prize 1: Toni Box Starter Set\, Prize 2: Sphero Coding Robot + $50 in Perry Bucks\, Prize 3: Magnetic Cube Block Set + $50 in Perry Bucks\, Prize 4: Family Game Package\, and Prize 5: a Gift Basket Galore for Toddlers</span></span></li>\n	<li style="text-align:justify"><span style="font-size:18px\;"><span style="font-family:arial\,sans-serif">Level Up Prizes &ndash\; Earn Brag Tags</span><span style="color:#252528"><span style="font-family:arial\,sans-serif">&copy\;\,</span></span><span style="font-family:arial\,sans-serif"> free books\, and age-appropriate toys for ages 0 to 3 when you earn point for reading and completing side quests</span></span></li>\n	<li style="text-align:justify"><span style="font-size:18px\;"><span style="font-family:arial\,sans-serif">Level Up Your Knowledge with Incredible Bats Live Bat Show &ndash\; Tuesday\, June 10<sup>th</sup></span></span></li>\n	<li style="text-align:justify"><span style="font-size:18px\;"><span style="font-family:arial\,sans-serif">Level Up Magic Show with Mikayla Oz &ndash\; Thursday\, June 19<sup>th</sup> </span></span></li>\n	<li style="text-align:justify"><span style="font-size:18px\;"><span style="font-family:arial\,sans-serif">Level Up Family Build-Your-Own-Board-Bame Afternoon &ndash\; Thursday\, June 26<sup>th</sup> </span></span></li>\n	<li style="text-align:justify"><span style="font-size:18px\;"><span style="font-family:arial\,sans-serif">Level Up Pokemon Bingo &ndash\; Thursday\, July 10<sup>th</sup> </span></span></li>\n	<li style="text-align:justify"><span style="font-size:18px\;"><span style="font-family:arial\,sans-serif">Level Up Life-Size Oregon Trail Game &ndash\; Week of July 7<sup>th</sup> through&nbsp\; July 11<sup>th</sup> </span></span></li>\n	<li style="text-align:justify"><span style="font-size:18px\;"><span style="font-family:arial\,sans-serif">Level Up Kids&rsquo\; Movies &ndash\; Monday\, June 16<sup>th</sup> and Monday\, July 7<sup>th</sup> </span></span></li>\n	<li style="text-align:justify"><span style="font-size:18px\;"><span style="font-family:arial\,sans-serif">Level Up PBS Adventure Cube &ndash\; Monday\, July 14<sup>th</sup> (registration required)</span></span></li>\n	<li style="text-align:justify"><span style="font-size:18px\;"><span style="font-family:arial\,sans-serif">Pop-Up Mini Golf Grand Finale &ndash\; Saturday\, July 26<sup>th</sup> </span></span></li>\n</ul>\n<span style="font-size:18px\;"> &nbsp\;<br />\n<strong><span style="font-family:arial\,sans-serif">Teen Level Up at Your Library Summer Library Program 2025 Highlights:</span></strong></span>\n\n<ul>\n	<li style="text-align:justify"><span style="font-size:18px\;"><span style="font-family:arial\,sans-serif">3 GRAND PRIZES &ndash\; Prize 1: Fujifilm Instax Mini Camera Set\, Prize 2: Plush Adjustable Gaming Chair and LED Strip Lights Gaming Prize\, and Prize 3: Tabletop and Outdoor Game Pack</span></span></li>\n	<li style="text-align:justify"><span style="font-size:18px\;"><span style="font-family:arial\,sans-serif">Level Up Prizes &ndash\; Earn fun keychains and free books when you earn points for reading and completing side quests</span></span></li>\n	<li style="text-align:justify"><span style="font-size:18px\;"><span style="font-family:arial\,sans-serif">Weekly Level Up Meet-Ups on Fridays in June and July with activities including:</span></span>\n	<ul style="list-style-type:circle">\n		<li style="text-align:justify"><span style="font-size:18px\;"><span style="font-family:arial\,sans-serif">Hunger Games Obstacle Course</span></span></li>\n		<li style="text-align:justify"><span style="font-size:18px\;"><span style="font-family:arial\,sans-serif">Kindergarten Game Day</span></span></li>\n		<li style="text-align:justify"><span style="font-size:18px\;"><span style="font-family:arial\,sans-serif">Live-Action Video Game</span></span></li>\n		<li style="text-align:justify"><span style="font-size:18px\;"><span style="font-family:arial\,sans-serif">Puzzle Races</span></span></li>\n		<li style="text-align:justify"><span style="font-size:18px\;"><span style="font-family:arial\,sans-serif">Nano Tape Bubble Kits</span></span></li>\n		<li style="text-align:justify"><span style="font-size:18px\;"><span style="font-family:arial\,sans-serif">Movie and Craft</span></span></li>\n	</ul>\n	</li>\n	<li style="text-align:justify"><span style="font-size:18px\;"><span style="font-family:arial\,sans-serif">Pop-Up Mini Golf Grand Finale &ndash\; Saturday\, July 26<sup>th</sup> </span></span></li>\n</ul>\n<span style="font-size:18px\;"> &nbsp\;<br />\n<strong><span style="font-family:arial\,sans-serif">Adult Level Up at Your Library Summer Library Program 2025 Highlights:</span></strong></span>\n\n<ul>\n	<li style="text-align:justify"><span style="font-size:18px\;"><span style="font-family:arial\,sans-serif">4 GRAND PRIZES &ndash\; Level Up with Prize 1: a Pickleball Set\, Prize 2: a Puzzle Table\, Prize 3: a Reading Package\, or Prize 4: a Mary Rose Gift Certificate!</span></span></li>\n	<li style="text-align:justify"><span style="font-size:18px\;"><span style="font-family:arial\,sans-serif">8 MINI-PRIZES &ndash\; Enjoy creative prizes to help you &ldquo\;level up&rdquo\; with skills and hobbies. Plus\, new this summer: winners choose from available prizes!</span></span></li>\n	<li style="text-align:justify"><span style="font-size:18px\;"><span style="font-family:arial\,sans-serif">2 BONUS MINI-PRIZES in June and July</span></span></li>\n	<li style="text-align:justify"><span style="font-size:18px\;"><span style="font-family:arial\,sans-serif">Level Up Your Personal History Workshops &ndash\; Tuesday\, June 3<sup>rd</sup> and Tuesday\, July 1<sup>st</sup></span></span></li>\n	<li style="text-align:justify"><span style="font-size:18px\;"><span style="font-family:arial\,sans-serif">Level Up Your Personal History Recording Sessions &ndash\; By Appointment in June and July</span></span></li>\n	<li style="text-align:justify"><span style="font-size:18px\;"><span style="font-family:arial\,sans-serif">Level Up Puzzle Competition &ndash\; Saturday\, June 14th</span></span></li>\n	<li style="text-align:justify"><span style="font-size:18px\;"><span style="font-family:arial\,sans-serif">Level Up Route 66 Escape Room Game for Next Chapter Group &ndash\; Wednesday\, June 18<sup>th</sup> </span></span></li>\n	<li style="text-align:justify"><span style="font-size:18px\;"><span style="font-family:arial\,sans-serif">Level Up National Parks Escape Room Game &ndash\; Thursday\, July 10<sup>th</sup> </span></span></li>\n	<li style="text-align:justify"><span style="font-size:18px\;"><span style="font-family:arial\,sans-serif">Pop-Up Mini Golf Grand Finale &ndash\; Saturday\, July 26<sup>th</sup> </span></span></li>\n</ul>\n
LOCATION:
UID:e.3316.9876
SEQUENCE:3
DTSTAMP:20260420T145654Z
URL:http://perryia.chambermaster.com/events/details/perry-public-library-summer-library-program-level-up-at-your-library-9876
END:VEVENT

END:VCALENDAR
