BEGIN:VCALENDAR
VERSION:2.0
PRODID:-//ChamberMaster//Event Calendar 2.0//EN
METHOD:PUBLISH
X-PUBLISHED-TTL:P3D
REFRESH-INTERVAL:P3D
CALSCALE:GREGORIAN
BEGIN:VEVENT
DTSTART;VALUE=DATE:20251108
DTEND;VALUE=DATE:20251116
TRANSP:TRANSPARENT
X-MICROSOFT-CDO-ALLDAYEVENT:TRUE
SUMMARY:Perry Public Library Tiny Art Show
DESCRIPTION:Join us for our first-ever Perry Public Library Tiny Art Show\, from Saturday\, November 8th\, through Saturday\, November 15th. This year's theme is "Reading Takes You Places" and features 4"x4" mini canvas artwork from community artists of all ages! View our Tiny Art Show during Art on the Prairie\, Saturday\, November 8th\, through Sunday\, November 9th. The show will be open through Saturday\, November 15th\; however\, the library will be closed on Tuesday\, November 11th\, in observance of Veterans' Day. This is a free event for all ages. For more information\, go to www.perry.lib.ia.us\, visit the library\, or call 515-465-3569.
X-ALT-DESC;FMTTYPE=text/html:<span style="font-size:18px\;"><span style="color:#14140C"><span style="font-family:arial\,sans-serif">Join us for our first-ever Perry Public Library Tiny Art Show\, from Saturday\, November 8<sup>th\,</sup> through Saturday\, November 15<sup>th</sup>. This year&rsquo\;s theme is &ldquo\;Reading Takes You Places&rdquo\; and features 4&rdquo\;x4&rdquo\; mini canvas artwork from community artists of all ages! View our Tiny Art Show during Art on the Prairie\, Saturday\, November 8<sup>th\,</sup> through Sunday\, November 9<sup>th</sup>. The show will be open through Saturday\, November 15<sup>th</sup>\; however\, the library will be closed on Tuesday\, November 11th\, in observance of Veterans&rsquo\; Day. This is a free event for all ages. </span></span><span style="font-family:arial\,sans-serif">For more information\, go to www.perry.lib.ia.us\, visit the library\, or call 515-465-3569.</span></span>
LOCATION:Perry Public Library
UID:e.3316.10427
SEQUENCE:3
DTSTAMP:20260420T013112Z
URL:http://perryia.chambermaster.com/events/details/perry-public-library-tiny-art-show-10427
END:VEVENT

END:VCALENDAR
