BEGIN:VCALENDAR
VERSION:2.0
PRODID:-//ChamberMaster//Event Calendar 2.0//EN
METHOD:PUBLISH
X-PUBLISHED-TTL:P3D
REFRESH-INTERVAL:P3D
CALSCALE:GREGORIAN
BEGIN:VEVENT
DTSTART:20240601T190000Z
DTEND:20240601T220000Z
X-MICROSOFT-CDO-ALLDAYEVENT:FALSE
SUMMARY:Showtime Dance & Tumbling Performance
DESCRIPTION:Showtime Dance & Tumbling Studio Performance
X-ALT-DESC;FMTTYPE=text/html:Showtime Dance &amp\; Tumbling Studio Performance
LOCATION:Perry Performing Arts Center 120018th Street
UID:e.3316.6689
SEQUENCE:3
DTSTAMP:20260424T194116Z
URL:http://perryia.chambermaster.com/events/details/showtime-dance-tumbling-performance-6689
END:VEVENT

END:VCALENDAR
