BEGIN:VCALENDAR
VERSION:2.0
PRODID:-//ChamberMaster//Event Calendar 2.0//EN
METHOD:PUBLISH
X-PUBLISHED-TTL:P3D
REFRESH-INTERVAL:P3D
CALSCALE:GREGORIAN
BEGIN:VEVENT
DTSTART:20251009T160000Z
DTEND:20251009T173000Z
X-MICROSOFT-CDO-ALLDAYEVENT:FALSE
SUMMARY:Soup Lunch & Learn
DESCRIPTION:This free event will feature a complimentary soup lunch and helpful information on resources available for seniors and families. Topics include:   Living well at home   home safety\, in-home care\, nutrition\, Meals on Wheels\, and independent living options   Living well with support   assisted living options\, short-term recovery suite\, and dementia support group Come enjoy lunch\, connect with neighbors\, and learn more about the many services available through Perry Lutheran Homes to support independence\, health\, and quality of life.
X-ALT-DESC;FMTTYPE=text/html:<span style="font-size:18px\;">This free event will feature a complimentary soup lunch and helpful information on resources available for seniors and families. Topics include: &bull\; Living well at home &ndash\; home safety\, in-home care\, nutrition\, Meals on Wheels\, and independent living options &bull\; Living well with support &ndash\; assisted living options\, short-term recovery suite\, and dementia support group Come enjoy lunch\, connect with neighbors\, and learn more about the many services available through Perry Lutheran Homes to support independence\, health\, and quality of life.</span>
LOCATION:McCreary Community Building 1800 Pattee Street\, Perry
UID:e.3316.10405
SEQUENCE:3
DTSTAMP:20260419T233516Z
URL:http://perryia.chambermaster.com/events/details/soup-lunch-learn-10405
END:VEVENT

END:VCALENDAR
