BEGIN:VCALENDAR
VERSION:2.0
PRODID:-//ChamberMaster//Event Calendar 2.0//EN
METHOD:PUBLISH
X-PUBLISHED-TTL:P3D
REFRESH-INTERVAL:P3D
CALSCALE:GREGORIAN
BEGIN:VEVENT
DTSTART:20250718T140000Z
DTEND:20250719T000000Z
X-MICROSOFT-CDO-ALLDAYEVENT:FALSE
SUMMARY:St. Patrick's Rummage Sale
DESCRIPTION:St. Patrick's Rummage Sale
X-ALT-DESC;FMTTYPE=text/html:<span style="font-size:18px\;">St. Patrick&#39\;s Rummage Sale</span>
LOCATION:St. Patrick's School Gym 1302 5th St
UID:e.3316.10246
SEQUENCE:3
DTSTAMP:20260421T142316Z
URL:http://perryia.chambermaster.com/events/details/st-patrick-s-rummage-sale-10246
END:VEVENT

END:VCALENDAR
