BEGIN:VCALENDAR
VERSION:2.0
PRODID:-//ChamberMaster//Event Calendar 2.0//EN
METHOD:PUBLISH
X-PUBLISHED-TTL:P3D
REFRESH-INTERVAL:P3D
CALSCALE:GREGORIAN
BEGIN:VEVENT
DTSTART:20240613T170000Z
DTEND:20240614T000000Z
X-MICROSOFT-CDO-ALLDAYEVENT:FALSE
SUMMARY:St. Patrick's Rummage Sale
DESCRIPTION:St. Patrick's Rummage Sale\n\nSponsored by Regina Guild
X-ALT-DESC;FMTTYPE=text/html:St. Patrick&#39\;s Rummage Sale<br />\nSponsored by Regina Guild
LOCATION:St. Patrick's School Gym 1302 5th Street Perry
UID:e.3316.6721
SEQUENCE:3
DTSTAMP:20260426T005313Z
URL:http://perryia.chambermaster.com/events/details/st-patrick-s-rummage-sale-6721
END:VEVENT

END:VCALENDAR
