BEGIN:VCALENDAR
VERSION:2.0
PRODID:-//ChamberMaster//Event Calendar 2.0//EN
METHOD:PUBLISH
X-PUBLISHED-TTL:P3D
REFRESH-INTERVAL:P3D
CALSCALE:GREGORIAN
BEGIN:VEVENT
DTSTART:20240501T210000Z
DTEND:20240502T000000Z
X-MICROSOFT-CDO-ALLDAYEVENT:FALSE
SUMMARY:Tacopalooza
DESCRIPTION:Tacopalooza at DMACC VanKirk Career Academy\n\ncelebrating the end of the school year!  Current DMACC VanKirk Career Academy students\, staff and community members are welcome to join us for $1.00 tacos from some of the best taco vendors in town!
X-ALT-DESC;FMTTYPE=text/html:Tacopalooza at DMACC VanKirk Career Academy<br />\ncelebrating the end of the school year!&nbsp\; Current DMACC VanKirk Career Academy students\, staff and community members are welcome to join us for $1.00 tacos from some of the best taco vendors in town!
LOCATION:DMACC VanKirk Career Academy 1011 2nd Street Perry
UID:e.3316.6644
SEQUENCE:3
DTSTAMP:20260425T002215Z
URL:http://perryia.chambermaster.com/events/details/tacopalooza-6644
END:VEVENT

END:VCALENDAR
